BEGIN:VCALENDAR
VERSION:2.0
PRODID:-//Gail Stolzenburg - ECPv6.15.20//NONSGML v1.0//EN
CALSCALE:GREGORIAN
METHOD:PUBLISH
X-WR-CALNAME:Gail Stolzenburg
X-ORIGINAL-URL:https://gailstolzenburg.com
X-WR-CALDESC:Events for Gail Stolzenburg
REFRESH-INTERVAL;VALUE=DURATION:PT1H
X-Robots-Tag:noindex
X-PUBLISHED-TTL:PT1H
BEGIN:VTIMEZONE
TZID:America/Chicago
BEGIN:DAYLIGHT
TZOFFSETFROM:-0600
TZOFFSETTO:-0500
TZNAME:CDT
DTSTART:20240310T080000
END:DAYLIGHT
BEGIN:STANDARD
TZOFFSETFROM:-0500
TZOFFSETTO:-0600
TZNAME:CST
DTSTART:20241103T070000
END:STANDARD
BEGIN:DAYLIGHT
TZOFFSETFROM:-0600
TZOFFSETTO:-0500
TZNAME:CDT
DTSTART:20250309T080000
END:DAYLIGHT
BEGIN:STANDARD
TZOFFSETFROM:-0500
TZOFFSETTO:-0600
TZNAME:CST
DTSTART:20251102T070000
END:STANDARD
BEGIN:DAYLIGHT
TZOFFSETFROM:-0600
TZOFFSETTO:-0500
TZNAME:CDT
DTSTART:20260308T080000
END:DAYLIGHT
BEGIN:STANDARD
TZOFFSETFROM:-0500
TZOFFSETTO:-0600
TZNAME:CST
DTSTART:20261101T070000
END:STANDARD
END:VTIMEZONE
BEGIN:VEVENT
DTSTART;TZID=America/Chicago:20250612T113000
DTEND;TZID=America/Chicago:20250612T130000
DTSTAMP:20260419T163419
CREATED:20250520T144221Z
LAST-MODIFIED:20250520T144221Z
UID:8451-1749727800-1749733200@gailstolzenburg.com
SUMMARY:H-Town Handshakes Noontime Networking
DESCRIPTION:Thu Jun 12 H-Town Handshakes Noontime Networking 11:30 AM The Cannon West Houston 1334 Brittmoore Rd #1327 Hosted by Edward Ferguson\, This is one of my favorite sessions Register at https://joinhtownhandshakes.com/
URL:https://gailstolzenburg.com/event/h-town-handshakes-noontime-networking/
END:VEVENT
BEGIN:VEVENT
DTSTART;TZID=America/Chicago:20250612T170000
DTEND;TZID=America/Chicago:20250612T190000
DTSTAMP:20260419T163419
CREATED:20250520T144343Z
LAST-MODIFIED:20250520T144343Z
UID:8453-1749747600-1749754800@gailstolzenburg.com
SUMMARY:Texas Christian Chamber Networking
DESCRIPTION:Thu Jun 12 Texas Christian Chamber Networking  5:00 PM https://katychristianchamberofcommerce.growthzoneapp.com/ap/Events/Register/aZFDG08UvCqCZ
URL:https://gailstolzenburg.com/event/texas-christian-chamber-networking/
END:VEVENT
END:VCALENDAR