BEGIN:VCALENDAR
VERSION:2.0
PRODID:-//Gail Stolzenburg - ECPv6.15.20//NONSGML v1.0//EN
CALSCALE:GREGORIAN
METHOD:PUBLISH
X-ORIGINAL-URL:https://gailstolzenburg.com
X-WR-CALDESC:Events for Gail Stolzenburg
REFRESH-INTERVAL;VALUE=DURATION:PT1H
X-Robots-Tag:noindex
X-PUBLISHED-TTL:PT1H
BEGIN:VTIMEZONE
TZID:America/Chicago
BEGIN:DAYLIGHT
TZOFFSETFROM:-0600
TZOFFSETTO:-0500
TZNAME:CDT
DTSTART:20240310T080000
END:DAYLIGHT
BEGIN:STANDARD
TZOFFSETFROM:-0500
TZOFFSETTO:-0600
TZNAME:CST
DTSTART:20241103T070000
END:STANDARD
BEGIN:DAYLIGHT
TZOFFSETFROM:-0600
TZOFFSETTO:-0500
TZNAME:CDT
DTSTART:20250309T080000
END:DAYLIGHT
BEGIN:STANDARD
TZOFFSETFROM:-0500
TZOFFSETTO:-0600
TZNAME:CST
DTSTART:20251102T070000
END:STANDARD
BEGIN:DAYLIGHT
TZOFFSETFROM:-0600
TZOFFSETTO:-0500
TZNAME:CDT
DTSTART:20260308T080000
END:DAYLIGHT
BEGIN:STANDARD
TZOFFSETFROM:-0500
TZOFFSETTO:-0600
TZNAME:CST
DTSTART:20261101T070000
END:STANDARD
END:VTIMEZONE
BEGIN:VEVENT
DTSTART;TZID=America/Chicago:20250619T090000
DTEND;TZID=America/Chicago:20250619T103000
DTSTAMP:20260419T163610
CREATED:20250520T144551Z
LAST-MODIFIED:20250520T144551Z
UID:8457-1750323600-1750329000@gailstolzenburg.com
SUMMARY:Senior Estate Concierge West Chapter
DESCRIPTION:Thu Jun 19 Senior Estate Concierge West Chapter 9:00 AM Cinco Ranch Alzheimer’s Special Care 3206 S. Fry Rd. Contact Gail@GailStolzenburg.com
URL:https://gailstolzenburg.com/event/senior-estate-concierge-west-chapter-2/
END:VEVENT
BEGIN:VEVENT
DTSTART;TZID=America/Chicago:20250619T173000
DTEND;TZID=America/Chicago:20250619T190000
DTSTAMP:20260419T163610
CREATED:20250520T144702Z
LAST-MODIFIED:20250520T144702Z
UID:8459-1750354200-1750359600@gailstolzenburg.com
SUMMARY: Katy-Networth Networking
DESCRIPTION:Thu Jun 19 Katy-Networth Networking 5:30 PM Gauchos Do Sul\, 910 W Grand Pkwy  https://www.eventbrite.com/e/katy-networth-business-networking-monthly-mixer-tickets-708592748987?aff=ebdssbpointsofinterest
URL:https://gailstolzenburg.com/event/katy-networth-networking-2/
END:VEVENT
END:VCALENDAR