BEGIN:VCALENDAR
VERSION:2.0
PRODID:-//Gail Stolzenburg - ECPv6.15.20//NONSGML v1.0//EN
CALSCALE:GREGORIAN
METHOD:PUBLISH
X-ORIGINAL-URL:https://gailstolzenburg.com
X-WR-CALDESC:Events for Gail Stolzenburg
REFRESH-INTERVAL;VALUE=DURATION:PT1H
X-Robots-Tag:noindex
X-PUBLISHED-TTL:PT1H
BEGIN:VTIMEZONE
TZID:America/Chicago
BEGIN:DAYLIGHT
TZOFFSETFROM:-0600
TZOFFSETTO:-0500
TZNAME:CDT
DTSTART:20240310T080000
END:DAYLIGHT
BEGIN:STANDARD
TZOFFSETFROM:-0500
TZOFFSETTO:-0600
TZNAME:CST
DTSTART:20241103T070000
END:STANDARD
BEGIN:DAYLIGHT
TZOFFSETFROM:-0600
TZOFFSETTO:-0500
TZNAME:CDT
DTSTART:20250309T080000
END:DAYLIGHT
BEGIN:STANDARD
TZOFFSETFROM:-0500
TZOFFSETTO:-0600
TZNAME:CST
DTSTART:20251102T070000
END:STANDARD
BEGIN:DAYLIGHT
TZOFFSETFROM:-0600
TZOFFSETTO:-0500
TZNAME:CDT
DTSTART:20260308T080000
END:DAYLIGHT
BEGIN:STANDARD
TZOFFSETFROM:-0500
TZOFFSETTO:-0600
TZNAME:CST
DTSTART:20261101T070000
END:STANDARD
END:VTIMEZONE
BEGIN:VEVENT
DTSTART;TZID=America/Chicago:20250620T070000
DTEND;TZID=America/Chicago:20250620T083000
DTSTAMP:20260419T163602
CREATED:20250520T144824Z
LAST-MODIFIED:20250520T144824Z
UID:8461-1750402800-1750408200@gailstolzenburg.com
SUMMARY:Texas Christian Chamber Faith & Business Breakfast
DESCRIPTION:Fri Jun 20 Texas Christian Chamber Faith & Business Breakfast 7:00 AM Speaker Dr. K Lynn Lewis of The Bible Seminary\, Grace Fellowship Church\, 2655 S Mason Rd\, Register at https://katychristianchamberofcommerce.growthzoneapp.com/ap/Events/Register/J5FdaM3cJCzC3
URL:https://gailstolzenburg.com/event/texas-christian-chamber-faith-business-breakfast-2/
END:VEVENT
BEGIN:VEVENT
DTSTART;TZID=America/Chicago:20250620T150000
DTEND;TZID=America/Chicago:20250620T160000
DTSTAMP:20260419T163602
CREATED:20250608T010612Z
LAST-MODIFIED:20250608T010612Z
UID:8521-1750431600-1750435200@gailstolzenburg.com
SUMMARY:Alignable Friday Weekly Meet & Greet Online
DESCRIPTION:Come and join us every Friday at 3pm for our Weekly Meet and Greet! This is where we get to meet local folks from Houston that we might be able to collaborate with or refer business to and from. \nConnect! \nBuild Community! \nGrow Your Network! \n🤗 Excited to see you every Friday! \nAlignable Google Meet & Greet\nEvery Friday · 3:00 – 4:00pm\nTime zone: America/Chicago\nGoogle Meet joining info \nVideo call link: https://meet.google.com/kdb-rpkd-xcb \nOr dial: ‪(US) +1 518-797-6046‬ PIN: ‪449 488 502‬#\nMore phone numbers: https://tel.meet/kdb-rpkd-xcb?pin=5610024421777
URL:https://gailstolzenburg.com/event/alignable-friday-weekly-meet-greet-online/
END:VEVENT
END:VCALENDAR