BEGIN:VCALENDAR
VERSION:2.0
PRODID:-//Gail Stolzenburg - ECPv6.15.20//NONSGML v1.0//EN
CALSCALE:GREGORIAN
METHOD:PUBLISH
X-ORIGINAL-URL:https://gailstolzenburg.com
X-WR-CALDESC:Events for Gail Stolzenburg
REFRESH-INTERVAL;VALUE=DURATION:PT1H
X-Robots-Tag:noindex
X-PUBLISHED-TTL:PT1H
BEGIN:VTIMEZONE
TZID:America/Chicago
BEGIN:DAYLIGHT
TZOFFSETFROM:-0600
TZOFFSETTO:-0500
TZNAME:CDT
DTSTART:20240310T080000
END:DAYLIGHT
BEGIN:STANDARD
TZOFFSETFROM:-0500
TZOFFSETTO:-0600
TZNAME:CST
DTSTART:20241103T070000
END:STANDARD
BEGIN:DAYLIGHT
TZOFFSETFROM:-0600
TZOFFSETTO:-0500
TZNAME:CDT
DTSTART:20250309T080000
END:DAYLIGHT
BEGIN:STANDARD
TZOFFSETFROM:-0500
TZOFFSETTO:-0600
TZNAME:CST
DTSTART:20251102T070000
END:STANDARD
BEGIN:DAYLIGHT
TZOFFSETFROM:-0600
TZOFFSETTO:-0500
TZNAME:CDT
DTSTART:20260308T080000
END:DAYLIGHT
BEGIN:STANDARD
TZOFFSETFROM:-0500
TZOFFSETTO:-0600
TZNAME:CST
DTSTART:20261101T070000
END:STANDARD
END:VTIMEZONE
BEGIN:VEVENT
DTSTART;TZID=America/Chicago:20250701T083000
DTEND;TZID=America/Chicago:20250701T100000
DTSTAMP:20260419T150819
CREATED:20250702T173041Z
LAST-MODIFIED:20250702T173041Z
UID:8540-1751358600-1751364000@gailstolzenburg.com
SUMMARY:Cup of Joey Memorial City
DESCRIPTION:Tue Jul 01 Cup of Joey Memorial City 8:30 AM 820 Gessner Rd RSVP at https://www.eventbrite.com/e/cup-of-joey-memorial-city-tickets-1082645795719
URL:https://gailstolzenburg.com/event/cup-of-joey-memorial-city-2/
END:VEVENT
END:VCALENDAR