BEGIN:VCALENDAR
VERSION:2.0
PRODID:-//Gail Stolzenburg - ECPv6.15.20//NONSGML v1.0//EN
CALSCALE:GREGORIAN
METHOD:PUBLISH
X-WR-CALNAME:Gail Stolzenburg
X-ORIGINAL-URL:https://gailstolzenburg.com
X-WR-CALDESC:Events for Gail Stolzenburg
REFRESH-INTERVAL;VALUE=DURATION:PT1H
X-Robots-Tag:noindex
X-PUBLISHED-TTL:PT1H
BEGIN:VTIMEZONE
TZID:America/Chicago
BEGIN:DAYLIGHT
TZOFFSETFROM:-0600
TZOFFSETTO:-0500
TZNAME:CDT
DTSTART:20240310T080000
END:DAYLIGHT
BEGIN:STANDARD
TZOFFSETFROM:-0500
TZOFFSETTO:-0600
TZNAME:CST
DTSTART:20241103T070000
END:STANDARD
BEGIN:DAYLIGHT
TZOFFSETFROM:-0600
TZOFFSETTO:-0500
TZNAME:CDT
DTSTART:20250309T080000
END:DAYLIGHT
BEGIN:STANDARD
TZOFFSETFROM:-0500
TZOFFSETTO:-0600
TZNAME:CST
DTSTART:20251102T070000
END:STANDARD
BEGIN:DAYLIGHT
TZOFFSETFROM:-0600
TZOFFSETTO:-0500
TZNAME:CDT
DTSTART:20260308T080000
END:DAYLIGHT
BEGIN:STANDARD
TZOFFSETFROM:-0500
TZOFFSETTO:-0600
TZNAME:CST
DTSTART:20261101T070000
END:STANDARD
END:VTIMEZONE
BEGIN:VEVENT
DTSTART;TZID=America/Chicago:20250709T080000
DTEND;TZID=America/Chicago:20250709T090000
DTSTAMP:20260419T150554
CREATED:20250705T154540Z
LAST-MODIFIED:20250705T155543Z
UID:8589-1752048000-1752051600@gailstolzenburg.com
SUMMARY:Katy Business Connection
DESCRIPTION:Wed Jul 09 Katy Business Connection 8:00 AM Schmidt Funeral Home\, 1344 West Grand Pkwy\, Over 40 business owners and representatives attending. To learn more go to https://www.facebook.com/KBCnetworking
URL:https://gailstolzenburg.com/event/katy-business-connection/
END:VEVENT
BEGIN:VEVENT
DTSTART;TZID=America/Chicago:20250709T080000
DTEND;TZID=America/Chicago:20250709T093000
DTSTAMP:20260419T150554
CREATED:20250702T173408Z
LAST-MODIFIED:20250702T173408Z
UID:8546-1752048000-1752053400@gailstolzenburg.com
SUMMARY:Senior Estate Concierge Northwest Chapter
DESCRIPTION:Wed Jul 09 Senior Estate Concierge Northwest Chapter 8:00 AM Solana Vintage Pk 19929 Chasewood Park Dr RSVP at SeniorEstateConcierge.com
URL:https://gailstolzenburg.com/event/senior-estate-concierge-northwest-chapter-4/
END:VEVENT
BEGIN:VEVENT
DTSTART;TZID=America/Chicago:20250709T083000
DTEND;TZID=America/Chicago:20250709T100000
DTSTAMP:20260419T150554
CREATED:20250702T173512Z
LAST-MODIFIED:20250702T173512Z
UID:8548-1752049800-1752055200@gailstolzenburg.com
SUMMARY:Cup of Joey Sugarland
DESCRIPTION:Wed Jul 09 Cup of Joey 8:30 AM 16090 City Walk Sugar Land  https://www.cupofjoey.org/event-details/cup-of-joey-at-sugar-land-town-square-2025-05-14-08-30
URL:https://gailstolzenburg.com/event/cup-of-joey-sugarland/
END:VEVENT
BEGIN:VEVENT
DTSTART;TZID=America/Chicago:20250709T120000
DTEND;TZID=America/Chicago:20250709T130000
DTSTAMP:20260419T150554
CREATED:20250703T121708Z
LAST-MODIFIED:20250703T122017Z
UID:8575-1752062400-1752066000@gailstolzenburg.com
SUMMARY:Networking Smarter with Alignable by Sue Brooks
DESCRIPTION:Wed Jul 09 12:00 PM CT Alignable Networking Education with Sue Brooke \nIf you’re spending time networking but not seeing results\, the problem might not be what you’re doing—it’s who you’re doing it with. \nIn this powerful session\, you’ll learn how to identify your Ideal Customers and Referral Partners so you can stop spinning your wheels and start making meaningful\, profitable connections on Alignable. \nWhether you’re brand new or ready to optimize your Alignable 360 experience\, this workshop will help you:\n✅ Get crystal clear on who you should be connecting with (and who’s wasting your time)\n✅ Learn how to attract the right people to your profile and conversations\n✅ Build a strategic foundation for turning connections into actual business \nWhen you get this right\, everything shifts—your outreach becomes easier\, your message resonates more deeply\, and your business can grow faster and more powerfully than ever before.
URL:https://gailstolzenburg.com/event/networking-smarter-with-alignable-by-sue-brooks/
END:VEVENT
END:VCALENDAR