BEGIN:VCALENDAR
VERSION:2.0
PRODID:-//Gail Stolzenburg - ECPv6.15.20//NONSGML v1.0//EN
CALSCALE:GREGORIAN
METHOD:PUBLISH
X-WR-CALNAME:Gail Stolzenburg
X-ORIGINAL-URL:https://gailstolzenburg.com
X-WR-CALDESC:Events for Gail Stolzenburg
REFRESH-INTERVAL;VALUE=DURATION:PT1H
X-Robots-Tag:noindex
X-PUBLISHED-TTL:PT1H
BEGIN:VTIMEZONE
TZID:America/Chicago
BEGIN:DAYLIGHT
TZOFFSETFROM:-0600
TZOFFSETTO:-0500
TZNAME:CDT
DTSTART:20240310T080000
END:DAYLIGHT
BEGIN:STANDARD
TZOFFSETFROM:-0500
TZOFFSETTO:-0600
TZNAME:CST
DTSTART:20241103T070000
END:STANDARD
BEGIN:DAYLIGHT
TZOFFSETFROM:-0600
TZOFFSETTO:-0500
TZNAME:CDT
DTSTART:20250309T080000
END:DAYLIGHT
BEGIN:STANDARD
TZOFFSETFROM:-0500
TZOFFSETTO:-0600
TZNAME:CST
DTSTART:20251102T070000
END:STANDARD
BEGIN:DAYLIGHT
TZOFFSETFROM:-0600
TZOFFSETTO:-0500
TZNAME:CDT
DTSTART:20260308T080000
END:DAYLIGHT
BEGIN:STANDARD
TZOFFSETFROM:-0500
TZOFFSETTO:-0600
TZNAME:CST
DTSTART:20261101T070000
END:STANDARD
END:VTIMEZONE
BEGIN:VEVENT
DTSTART;TZID=America/Chicago:20250710T113000
DTEND;TZID=America/Chicago:20250710T130000
DTSTAMP:20260419T150555
CREATED:20250702T173626Z
LAST-MODIFIED:20250703T122523Z
UID:8550-1752147000-1752152400@gailstolzenburg.com
SUMMARY:H-Town Hankshakes Noontime Networking
DESCRIPTION:Thu Jul 10 H-Town Handshakes Noontime Networking 11:30 AM Hosted by Edward Ferguson\, Special Networking Tip by Gail Stolzenburg\, The Cannon West Houston 1334 Brittmoore Rd #1327\, This is one of my favorite sessions. Register today at https://joinhtownhandshakes.com/
URL:https://gailstolzenburg.com/event/h-town-hankshakes-noontime-networking/
END:VEVENT
BEGIN:VEVENT
DTSTART;TZID=America/Chicago:20250710T173000
DTEND;TZID=America/Chicago:20250710T190000
DTSTAMP:20260419T150555
CREATED:20250702T173741Z
LAST-MODIFIED:20250707T132717Z
UID:8552-1752168600-1752174000@gailstolzenburg.com
SUMMARY:Texas Christian Chamber Networking
DESCRIPTION:Thu Jul 10 Texas Christian Chamber Networking Mixer 5:30 PM HomeRun Dugout (Private Bay Room) Register at  https://texaschristianchamber.com/
URL:https://gailstolzenburg.com/event/texas-christian-chamber-networking-2/
END:VEVENT
END:VCALENDAR