BEGIN:VCALENDAR
VERSION:2.0
PRODID:-//Gail Stolzenburg - ECPv6.15.20//NONSGML v1.0//EN
CALSCALE:GREGORIAN
METHOD:PUBLISH
X-ORIGINAL-URL:https://gailstolzenburg.com
X-WR-CALDESC:Events for Gail Stolzenburg
REFRESH-INTERVAL;VALUE=DURATION:PT1H
X-Robots-Tag:noindex
X-PUBLISHED-TTL:PT1H
BEGIN:VTIMEZONE
TZID:America/Chicago
BEGIN:DAYLIGHT
TZOFFSETFROM:-0600
TZOFFSETTO:-0500
TZNAME:CDT
DTSTART:20240310T080000
END:DAYLIGHT
BEGIN:STANDARD
TZOFFSETFROM:-0500
TZOFFSETTO:-0600
TZNAME:CST
DTSTART:20241103T070000
END:STANDARD
BEGIN:DAYLIGHT
TZOFFSETFROM:-0600
TZOFFSETTO:-0500
TZNAME:CDT
DTSTART:20250309T080000
END:DAYLIGHT
BEGIN:STANDARD
TZOFFSETFROM:-0500
TZOFFSETTO:-0600
TZNAME:CST
DTSTART:20251102T070000
END:STANDARD
BEGIN:DAYLIGHT
TZOFFSETFROM:-0600
TZOFFSETTO:-0500
TZNAME:CDT
DTSTART:20260308T080000
END:DAYLIGHT
BEGIN:STANDARD
TZOFFSETFROM:-0500
TZOFFSETTO:-0600
TZNAME:CST
DTSTART:20261101T070000
END:STANDARD
END:VTIMEZONE
BEGIN:VEVENT
DTSTART;TZID=America/Chicago:20250713T080000
DTEND;TZID=America/Chicago:20250713T170000
DTSTAMP:20260419T150852
CREATED:20250714T003116Z
LAST-MODIFIED:20250714T003116Z
UID:8631-1752393600-1752426000@gailstolzenburg.com
SUMMARY:Texas Christian Chamber Business Connections
DESCRIPTION:Fri Jul 18 Texas Christian Chamber Business Connections 7:00 AM Speaker Kiki Clarke\, founder of Vibrant Life Coaching Register at https://business.mytxccc.com/ap/Events/Register/2JF6BaMI3CNCz
URL:https://gailstolzenburg.com/event/texas-christian-chamber-business-connections-2/
END:VEVENT
BEGIN:VEVENT
DTSTART;TZID=America/Chicago:20250713T080000
DTEND;TZID=America/Chicago:20250713T170000
DTSTAMP:20260419T150852
CREATED:20250714T004608Z
LAST-MODIFIED:20250714T004608Z
UID:8642-1752393600-1752426000@gailstolzenburg.com
SUMMARY:Cup of Joey Sugar Land
DESCRIPTION:Wed Aug 13 Cup of Joey 8:30 AM 16090 City Walk Sugar Land  https://www.cupofjoey.org/event-details/cup-of-joey-at-sugar-land-town-square-2025-05-14-08-30
URL:https://gailstolzenburg.com/event/cup-of-joey-sugar-land-3/
END:VEVENT
END:VCALENDAR