BEGIN:VCALENDAR
VERSION:2.0
PRODID:-//Gail Stolzenburg - ECPv6.15.20//NONSGML v1.0//EN
CALSCALE:GREGORIAN
METHOD:PUBLISH
X-ORIGINAL-URL:https://gailstolzenburg.com
X-WR-CALDESC:Events for Gail Stolzenburg
REFRESH-INTERVAL;VALUE=DURATION:PT1H
X-Robots-Tag:noindex
X-PUBLISHED-TTL:PT1H
BEGIN:VTIMEZONE
TZID:America/Chicago
BEGIN:DAYLIGHT
TZOFFSETFROM:-0600
TZOFFSETTO:-0500
TZNAME:CDT
DTSTART:20240310T080000
END:DAYLIGHT
BEGIN:STANDARD
TZOFFSETFROM:-0500
TZOFFSETTO:-0600
TZNAME:CST
DTSTART:20241103T070000
END:STANDARD
BEGIN:DAYLIGHT
TZOFFSETFROM:-0600
TZOFFSETTO:-0500
TZNAME:CDT
DTSTART:20250309T080000
END:DAYLIGHT
BEGIN:STANDARD
TZOFFSETFROM:-0500
TZOFFSETTO:-0600
TZNAME:CST
DTSTART:20251102T070000
END:STANDARD
BEGIN:DAYLIGHT
TZOFFSETFROM:-0600
TZOFFSETTO:-0500
TZNAME:CDT
DTSTART:20260308T080000
END:DAYLIGHT
BEGIN:STANDARD
TZOFFSETFROM:-0500
TZOFFSETTO:-0600
TZNAME:CST
DTSTART:20261101T070000
END:STANDARD
END:VTIMEZONE
BEGIN:VEVENT
DTSTART;TZID=America/Chicago:20250806T080000
DTEND;TZID=America/Chicago:20250806T090000
DTSTAMP:20260419T133240
CREATED:20250728T125538Z
LAST-MODIFIED:20250728T125538Z
UID:8714-1754467200-1754470800@gailstolzenburg.com
SUMMARY:Katy Business Connection Networking
DESCRIPTION:Wed Jul 30 Katy Business Connection 8:00 AM Schmidt Funeral Home\, 1344 West Grand Pkwy\, Over 40 business owners and representatives attending. To learn more go to https://www.facebook.com/KBCnetworking
URL:https://gailstolzenburg.com/event/katy-business-connection-networking/
END:VEVENT
BEGIN:VEVENT
DTSTART;TZID=America/Chicago:20250806T110000
DTEND;TZID=America/Chicago:20250806T123000
DTSTAMP:20260419T133240
CREATED:20250728T125752Z
LAST-MODIFIED:20250728T125752Z
UID:8716-1754478000-1754483400@gailstolzenburg.com
SUMMARY:Alignable in Person Networking
DESCRIPTION:Wed Aug 06 Alignable In Person Networking 11:00 AM by Judy Peterson\,  Clear Lake Freeman Branch Library16616 Diana Lane
URL:https://gailstolzenburg.com/event/alignable-in-person-networking-7/
END:VEVENT
END:VCALENDAR