BEGIN:VCALENDAR
VERSION:2.0
PRODID:-//Gail Stolzenburg - ECPv6.15.20//NONSGML v1.0//EN
CALSCALE:GREGORIAN
METHOD:PUBLISH
X-ORIGINAL-URL:https://gailstolzenburg.com
X-WR-CALDESC:Events for Gail Stolzenburg
REFRESH-INTERVAL;VALUE=DURATION:PT1H
X-Robots-Tag:noindex
X-PUBLISHED-TTL:PT1H
BEGIN:VTIMEZONE
TZID:America/Chicago
BEGIN:DAYLIGHT
TZOFFSETFROM:-0600
TZOFFSETTO:-0500
TZNAME:CDT
DTSTART:20240310T080000
END:DAYLIGHT
BEGIN:STANDARD
TZOFFSETFROM:-0500
TZOFFSETTO:-0600
TZNAME:CST
DTSTART:20241103T070000
END:STANDARD
BEGIN:DAYLIGHT
TZOFFSETFROM:-0600
TZOFFSETTO:-0500
TZNAME:CDT
DTSTART:20250309T080000
END:DAYLIGHT
BEGIN:STANDARD
TZOFFSETFROM:-0500
TZOFFSETTO:-0600
TZNAME:CST
DTSTART:20251102T070000
END:STANDARD
BEGIN:DAYLIGHT
TZOFFSETFROM:-0600
TZOFFSETTO:-0500
TZNAME:CDT
DTSTART:20260308T080000
END:DAYLIGHT
BEGIN:STANDARD
TZOFFSETFROM:-0500
TZOFFSETTO:-0600
TZNAME:CST
DTSTART:20261101T070000
END:STANDARD
END:VTIMEZONE
BEGIN:VEVENT
DTSTART;TZID=America/Chicago:20250815T070000
DTEND;TZID=America/Chicago:20250815T083000
DTSTAMP:20260419T133258
CREATED:20250719T154058Z
LAST-MODIFIED:20250719T154058Z
UID:8666-1755241200-1755246600@gailstolzenburg.com
SUMMARY:Texas Christian Chamber Breakfast Connections
DESCRIPTION:Fri Aug 15 Texas Christian Chamber Breakfast Connections 7:00 AM hosted by Erica Scardino at Katy Gardens. Speaker is Kiki Clarke\, Corporate Coach & Financial Strategist of Vibrant Life Coaching. Go to https://mytxccc.com.
URL:https://gailstolzenburg.com/event/texas-christian-chamber-breakfast-connections/
END:VEVENT
BEGIN:VEVENT
DTSTART;TZID=America/Chicago:20250815T113000
DTEND;TZID=America/Chicago:20250815T123000
DTSTAMP:20260419T133258
CREATED:20250804T122518Z
LAST-MODIFIED:20250804T122518Z
UID:8762-1755257400-1755261000@gailstolzenburg.com
SUMMARY:Business Success Academy - F.I.R.E on AI
DESCRIPTION:  \n \nWhen AI Stops Chatting and Starts Working: Watch It Shrink Hours Into Minutes  \n\nWhat if you could turn hours of repetitive work into minutes? \nJoin the Business Success Academy F.I.R.E. Zoom this Friday at 11:30 am and see Agentic AI in action—AI that doesn’t just talk… it works. \n✅ Live demo: Watch Agentic AI automate real-world business tasks\n✅ Hands-on workshop: Get help applying it to your own challenges\n✅ Bonus: Learn how to access our Wednesday Inner Circle Zoom calls where members solve real problems together (with replays!)\n✅ Free download: The Funnel Leak Detector Worksheet to fix the gaps in your business \nThis is not theory. This is not hype. This is AI doing in minutes what normally takes hours—and you’ll leave with the tools to use it yourself. \n📅 Friday August 15that 11:30 am\n💻 On Zoom – https://us02web.zoom.us/meeting/register/KyOxUCzZQBeiPlds3ZrLnw
URL:https://gailstolzenburg.com/event/business-success-academy-f-i-r-e-on-ai-2/
END:VEVENT
BEGIN:VEVENT
DTSTART;TZID=America/Chicago:20250815T150000
DTEND;TZID=America/Chicago:20250815T163000
DTSTAMP:20260419T133258
CREATED:20250728T131650Z
LAST-MODIFIED:20250728T131650Z
UID:8725-1755270000-1755275400@gailstolzenburg.com
SUMMARY:Alignable Houston Meet & Greet
DESCRIPTION:Fri Aug 15 Alignable Houston Meet & Greet Online 3:00 PM by Judy Peterson. Video call link: https://meet.google.com/kdb-rpkd-xcb
URL:https://gailstolzenburg.com/event/alignable-houston-meet-greet/
END:VEVENT
END:VCALENDAR