BEGIN:VCALENDAR
VERSION:2.0
PRODID:-//Gail Stolzenburg - ECPv6.15.20//NONSGML v1.0//EN
CALSCALE:GREGORIAN
METHOD:PUBLISH
X-WR-CALNAME:Gail Stolzenburg
X-ORIGINAL-URL:https://gailstolzenburg.com
X-WR-CALDESC:Events for Gail Stolzenburg
REFRESH-INTERVAL;VALUE=DURATION:PT1H
X-Robots-Tag:noindex
X-PUBLISHED-TTL:PT1H
BEGIN:VTIMEZONE
TZID:America/Chicago
BEGIN:DAYLIGHT
TZOFFSETFROM:-0600
TZOFFSETTO:-0500
TZNAME:CDT
DTSTART:20240310T080000
END:DAYLIGHT
BEGIN:STANDARD
TZOFFSETFROM:-0500
TZOFFSETTO:-0600
TZNAME:CST
DTSTART:20241103T070000
END:STANDARD
BEGIN:DAYLIGHT
TZOFFSETFROM:-0600
TZOFFSETTO:-0500
TZNAME:CDT
DTSTART:20250309T080000
END:DAYLIGHT
BEGIN:STANDARD
TZOFFSETFROM:-0500
TZOFFSETTO:-0600
TZNAME:CST
DTSTART:20251102T070000
END:STANDARD
BEGIN:DAYLIGHT
TZOFFSETFROM:-0600
TZOFFSETTO:-0500
TZNAME:CDT
DTSTART:20260308T080000
END:DAYLIGHT
BEGIN:STANDARD
TZOFFSETFROM:-0500
TZOFFSETTO:-0600
TZNAME:CST
DTSTART:20261101T070000
END:STANDARD
END:VTIMEZONE
BEGIN:VEVENT
DTSTART;TZID=America/Chicago:20251114T113000
DTEND;TZID=America/Chicago:20251114T130000
DTSTAMP:20260419T103153
CREATED:20251012T154537Z
LAST-MODIFIED:20251012T154537Z
UID:9156-1763119800-1763125200@gailstolzenburg.com
SUMMARY:Inspired Leaders Networking Lunch
DESCRIPTION:Fri Nov 14 Inspired Leaders 11:30 AM  Hosted by Andy and Elizabeth Greever\, Vibrant Church\, 2319 Timberloch Pl. The Woodlands\, Go to https://www.inspiredleaders.org/event-rsvp\
URL:https://gailstolzenburg.com/event/inspired-leaders-networking-lunch/
END:VEVENT
BEGIN:VEVENT
DTSTART;TZID=America/Chicago:20251114T150000
DTEND;TZID=America/Chicago:20251114T163000
DTSTAMP:20260419T103153
CREATED:20251012T154633Z
LAST-MODIFIED:20251012T154633Z
UID:9158-1763132400-1763137800@gailstolzenburg.com
SUMMARY:Alignable Houston Meet & Greet Online
DESCRIPTION:Fri Nov 14 Alignable Houston Meet & Greet Online 3:00 PM by Judy Peterson. Video call link:
URL:https://gailstolzenburg.com/event/alignable-houston-meet-greet-online-3/
END:VEVENT
END:VCALENDAR