BEGIN:VCALENDAR
VERSION:2.0
PRODID:-//Gail Stolzenburg - ECPv6.15.20//NONSGML v1.0//EN
CALSCALE:GREGORIAN
METHOD:PUBLISH
X-WR-CALNAME:Gail Stolzenburg
X-ORIGINAL-URL:https://gailstolzenburg.com
X-WR-CALDESC:Events for Gail Stolzenburg
REFRESH-INTERVAL;VALUE=DURATION:PT1H
X-Robots-Tag:noindex
X-PUBLISHED-TTL:PT1H
BEGIN:VTIMEZONE
TZID:America/Chicago
BEGIN:DAYLIGHT
TZOFFSETFROM:-0600
TZOFFSETTO:-0500
TZNAME:CDT
DTSTART:20250309T080000
END:DAYLIGHT
BEGIN:STANDARD
TZOFFSETFROM:-0500
TZOFFSETTO:-0600
TZNAME:CST
DTSTART:20251102T070000
END:STANDARD
BEGIN:DAYLIGHT
TZOFFSETFROM:-0600
TZOFFSETTO:-0500
TZNAME:CDT
DTSTART:20260308T080000
END:DAYLIGHT
BEGIN:STANDARD
TZOFFSETFROM:-0500
TZOFFSETTO:-0600
TZNAME:CST
DTSTART:20261101T070000
END:STANDARD
BEGIN:DAYLIGHT
TZOFFSETFROM:-0600
TZOFFSETTO:-0500
TZNAME:CDT
DTSTART:20270314T080000
END:DAYLIGHT
BEGIN:STANDARD
TZOFFSETFROM:-0500
TZOFFSETTO:-0600
TZNAME:CST
DTSTART:20271107T070000
END:STANDARD
END:VTIMEZONE
BEGIN:VEVENT
DTSTART;TZID=America/Chicago:20260420T080000
DTEND;TZID=America/Chicago:20260420T170000
DTSTAMP:20260420T023122
CREATED:20260411T211450Z
LAST-MODIFIED:20260411T211450Z
UID:9702-1776672000-1776704400@gailstolzenburg.com
SUMMARY:US-Mexico Chamber Annual Golf Tournament\,
DESCRIPTION:Mon Apr 20 US-Mexico Chamber Annual Golf Tournament\, Tee Time 8:00 AM  Contact Frank Galan at frankgalan1@yahoo.com Or Ana Maria Simmons at ana.simmons@usmcoc.org.
URL:https://gailstolzenburg.com/event/us-mexico-chamber-annual-golf-tournament/
END:VEVENT
BEGIN:VEVENT
DTSTART;TZID=America/Chicago:20260421T090000
DTEND;TZID=America/Chicago:20260421T103000
DTSTAMP:20260420T023122
CREATED:20260411T211603Z
LAST-MODIFIED:20260411T211603Z
UID:9704-1776762000-1776767400@gailstolzenburg.com
SUMMARY:Apr 21 Talk To Me Tuesday by Belmont Village
DESCRIPTION:​Tue Apr 21 Talk To Me Tuesday by Belmont Village 2929 Holcomb 9:00 AM\, RSVP Online at bit.ly/TalkToMeTuesdayWU0725 or contact KWard@belmontvillage.com or 346-241-2319
URL:https://gailstolzenburg.com/event/apr-21-talk-to-me-tuesday-by-belmont-village/
END:VEVENT
BEGIN:VEVENT
DTSTART;TZID=America/Chicago:20260421T113000
DTEND;TZID=America/Chicago:20260421T130000
DTSTAMP:20260420T023122
CREATED:20260411T211718Z
LAST-MODIFIED:20260411T211718Z
UID:9706-1776771000-1776776400@gailstolzenburg.com
SUMMARY:Toolbox Sugar Land
DESCRIPTION:Tue Apr 21 Toolbox Sugar Land 11:30 AM Speaker Sugarland Country Club \, Men only\, Go to www.toolboxminitries.com
URL:https://gailstolzenburg.com/event/toolbox-sugar-land-4/
END:VEVENT
BEGIN:VEVENT
DTSTART;TZID=America/Chicago:20260421T113000
DTEND;TZID=America/Chicago:20260421T130000
DTSTAMP:20260420T023122
CREATED:20260419T221436Z
LAST-MODIFIED:20260419T221436Z
UID:9774-1776771000-1776776400@gailstolzenburg.com
SUMMARY:Greater Houston Pachyderm Club
DESCRIPTION:Tue Apr 21 Greater Houston Pachyderm Club 11:30 AM Celebration San Jacinto Day\, Speaker Justice Ken Wise\, 14th Court of Appeals\, King Ranch 1605 Post Oak Blvd\, RSVP  GreaterHoustonPacydermClub.org
URL:https://gailstolzenburg.com/event/greater-houston-pachyderm-club/
END:VEVENT
BEGIN:VEVENT
DTSTART;TZID=America/Chicago:20260421T173000
DTEND;TZID=America/Chicago:20260421T190000
DTSTAMP:20260420T023122
CREATED:20260411T212102Z
LAST-MODIFIED:20260419T221333Z
UID:9708-1776792600-1776798000@gailstolzenburg.com
SUMMARY:InHouston Katy Professional Networking Mixer
DESCRIPTION:Tue Apr 21 InHouston Katy Professional Networking Mixer 5:30 PM \, El Asador\, 3750 S Maspm Dr.\, Katy\, Contact Newell@NewellCheatheam.com
URL:https://gailstolzenburg.com/event/inhouston-katy-professional-networking-mixer/
END:VEVENT
BEGIN:VEVENT
DTSTART;TZID=America/Chicago:20260422T080000
DTEND;TZID=America/Chicago:20260422T090000
DTSTAMP:20260420T023122
CREATED:20260419T222015Z
LAST-MODIFIED:20260419T222015Z
UID:9776-1776844800-1776848400@gailstolzenburg.com
SUMMARY:Katy Connection Networking
DESCRIPTION:Wed Apr 22  Katy Connection 8:00 AM facilitated by Bob Doll at Schmidt Funeral Home 1334 W Grand Pkwy\, Katy\, Over 50 networkers attend on a regular basis.  Go to https://www.facebook.com/TheKatyConnection.
URL:https://gailstolzenburg.com/event/katy-connection-networking-17/
END:VEVENT
BEGIN:VEVENT
DTSTART;TZID=America/Chicago:20260423T110000
DTEND;TZID=America/Chicago:20260423T123000
DTSTAMP:20260420T023122
CREATED:20260411T212320Z
LAST-MODIFIED:20260411T212320Z
UID:9712-1776942000-1776947400@gailstolzenburg.com
SUMMARY:Texas Christian Chamber
DESCRIPTION:Mon Apr 23 Texas Christian Chamber 11:00 AM Speaker Howard Partridge of Phenomenal Coaching\, #! Amazon bestselling author\, founding member of John Maxwell Team and small business coach for Ziglar organization\, Live Zoom Meeting\, Contact Angie Crisman 281-635 9345
URL:https://gailstolzenburg.com/event/texas-christian-chamber/
END:VEVENT
BEGIN:VEVENT
DTSTART;TZID=America/Chicago:20260423T160000
DTEND;TZID=America/Chicago:20260423T170000
DTSTAMP:20260420T023122
CREATED:20260411T212422Z
LAST-MODIFIED:20260411T212422Z
UID:9714-1776960000-1776963600@gailstolzenburg.com
SUMMARY:GC Network Group
DESCRIPTION:​Thu Apr 23 GC Network Group 4:00 PM hosted by Gerard Charles Register at https://form.jotform.com/BeeBold/gc-network
URL:https://gailstolzenburg.com/event/gc-network-group-3/
END:VEVENT
BEGIN:VEVENT
DTSTART;TZID=America/Chicago:20260424T100000
DTEND;TZID=America/Chicago:20260424T110000
DTSTAMP:20260420T023122
CREATED:20260412T155732Z
LAST-MODIFIED:20260412T155732Z
UID:9745-1777024800-1777028400@gailstolzenburg.com
SUMMARY: Alignable Friday Morning Networking
DESCRIPTION:Fri Apr 24 Alignable Friday Morning Networking In Person 10:00 AM Teahouse Tapioca 9050 Hwy 6\, Missouri Cityby Judy Peterson\, Email Judy@Judyp.me
URL:https://gailstolzenburg.com/event/alignable-friday-morning-networking/
END:VEVENT
BEGIN:VEVENT
DTSTART;TZID=America/Chicago:20260429T113000
DTEND;TZID=America/Chicago:20260429T130000
DTSTAMP:20260420T023122
CREATED:20260411T212215Z
LAST-MODIFIED:20260419T222631Z
UID:9710-1777462200-1777467600@gailstolzenburg.com
SUMMARY:Senior Estate Concierge Central Chapter
DESCRIPTION:Wed Apr 29 Senior Estate Concierge Central Chapter (For Senior Service Providers) 11:30 AM Speaker Maritza Cruz Thomas\, Executive Marketing Director\, PHP Agency Director & Founder The ROC Financial RVSP https://docs.google.com/forms/d/e/1FAIpQLSc0RyvLFA-Fsz5gePovl0eeS9WiF4hxTA31W5MAgMkoHCWRtQ/viewform
URL:https://gailstolzenburg.com/event/senior-estate-concierge-central-chapter-9/
END:VEVENT
BEGIN:VEVENT
DTSTART;TZID=America/Chicago:20260501T100000
DTEND;TZID=America/Chicago:20260501T110000
DTSTAMP:20260420T023122
CREATED:20260412T155922Z
LAST-MODIFIED:20260412T155922Z
UID:9747-1777629600-1777633200@gailstolzenburg.com
SUMMARY:Alignable Friday Morning Networking In Person
DESCRIPTION:Fri May 01 Alignable Friday Morning Networking In Person 10:00 AM Teahouse Tapioca 9050 Hwy 6\, Missouri City by Judy Peterson\, Email Judy@Judyp.me
URL:https://gailstolzenburg.com/event/alignable-friday-morning-networking-in-person-9/
END:VEVENT
BEGIN:VEVENT
DTSTART;TZID=America/Chicago:20260501T113000
DTEND;TZID=America/Chicago:20260501T120000
DTSTAMP:20260420T023122
CREATED:20260419T223750Z
LAST-MODIFIED:20260419T223750Z
UID:9788-1777635000-1777636800@gailstolzenburg.com
SUMMARY: Business Success Academy F.I.R.E. (Friday\, Inspire\, Renew\, Excel)
DESCRIPTION:Using Public Speaking As YourBest Networking Tool\nFri May 01 Business Success Academy F.I.R.E. (Friday\, Inspire\, Renew\, Excel) 11:30 AM Featuring Gail Stolzenburg focused on Using Speaking As Your Best Networking Tool  including a workshop session for all participants. Zoom Session\nhttps://us02web.zoom.us/j/89281180835?pwd=ov7kuE5yQbzKash6EjBPzNHxttY7ca.1
URL:https://gailstolzenburg.com/event/business-success-academy-f-i-r-e-friday-inspire-renew-excel-8/
END:VEVENT
BEGIN:VEVENT
DTSTART;TZID=America/Chicago:20260501T113000
DTEND;TZID=America/Chicago:20260501T130000
DTSTAMP:20260420T023122
CREATED:20260419T223900Z
LAST-MODIFIED:20260419T223900Z
UID:9790-1777635000-1777640400@gailstolzenburg.com
SUMMARY:Toolbox Woodlands
DESCRIPTION:Tue May 05 Toolbox Woodlands 11:30 AM Speaker Paul Stankowski  Woodlands Country Club (Men Olny) Go to toolboxministries.com
URL:https://gailstolzenburg.com/event/toolbox-woodlands-5/
END:VEVENT
BEGIN:VEVENT
DTSTART;TZID=America/Chicago:20260505T113000
DTEND;TZID=America/Chicago:20260505T130000
DTSTAMP:20260420T023122
CREATED:20260411T212647Z
LAST-MODIFIED:20260411T212647Z
UID:9718-1777980600-1777986000@gailstolzenburg.com
SUMMARY:Toolbox Woodlands
DESCRIPTION:Tue May 05 Toolbox Woodlands 11:30 AM Woodlands Country Club Go to toolboxministries.com
URL:https://gailstolzenburg.com/event/toolbox-woodlands-3/
END:VEVENT
BEGIN:VEVENT
DTSTART;TZID=America/Chicago:20260505T113000
DTEND;TZID=America/Chicago:20260505T130000
DTSTAMP:20260420T023122
CREATED:20260419T224020Z
LAST-MODIFIED:20260419T224033Z
UID:9792-1777980600-1777986000@gailstolzenburg.com
SUMMARY:Greater Houston Pachyderm Club
DESCRIPTION:Tue May 05 Greater Houston Pachyderm Club 11:30 AM Speaker Ryan Patrick\, CEO Texans for Laysuit Reforme\, Ranch 1605 Post Oak Blvd\, RSVP  GreaterHoustonPacydermClub.org
URL:https://gailstolzenburg.com/event/greater-houston-pachyderm-club-2/
END:VEVENT
BEGIN:VEVENT
DTSTART;TZID=America/Chicago:20260505T173000
DTEND;TZID=America/Chicago:20260505T190000
DTSTAMP:20260420T023122
CREATED:20260419T224201Z
LAST-MODIFIED:20260419T224201Z
UID:9794-1778002200-1778007600@gailstolzenburg.com
SUMMARY:Katy Connection Networking Mixer
DESCRIPTION:Tue May 05 Katy Connection Mixer 5:30 PM Big Wings 24402 Kingsland. Go to https://www.facebook.com/search/top?q=katy%20connection
URL:https://gailstolzenburg.com/event/katy-connection-networking-mixer-2/
END:VEVENT
BEGIN:VEVENT
DTSTART;TZID=America/Chicago:20260506T080000
DTEND;TZID=America/Chicago:20260506T090000
DTSTAMP:20260420T023122
CREATED:20260419T224555Z
LAST-MODIFIED:20260419T224555Z
UID:9796-1778054400-1778058000@gailstolzenburg.com
SUMMARY:Katy Connection Networking
DESCRIPTION:Wed May 06  Katy Connection 8:00 AM facilitated by Bob Doll at Schmidt Funeral Home 1334 W Grand Pkwy\, Katy\, Over 50 networkers attend on a regular basis.  Go to https://www.facebook.com/TheKatyConnection.
URL:https://gailstolzenburg.com/event/katy-connection-networking-18/
END:VEVENT
BEGIN:VEVENT
DTSTART;TZID=America/Chicago:20260506T110000
DTEND;TZID=America/Chicago:20260506T130000
DTSTAMP:20260420T023122
CREATED:20260411T212747Z
LAST-MODIFIED:20260411T212747Z
UID:9720-1778065200-1778072400@gailstolzenburg.com
SUMMARY:SCORE/SBA Awards Luncheon
DESCRIPTION:Wed May 06 SCORE/SBA Awards Luncheon 11:00 AM Hilton Houston Post Oak by the Galleria 2001 Post Oak Blvd. https://sites.google.com/scorevolunteer.org/score-presents-sba-awards-hou/home
URL:https://gailstolzenburg.com/event/score-sba-awards-luncheon/
END:VEVENT
BEGIN:VEVENT
DTSTART;TZID=America/Chicago:20260512T113000
DTEND;TZID=America/Chicago:20260512T130000
DTSTAMP:20260420T023122
CREATED:20260412T160911Z
LAST-MODIFIED:20260412T160911Z
UID:9751-1778585400-1778590800@gailstolzenburg.com
SUMMARY:Toolbox Downtown 
DESCRIPTION:Tue May 12 Toolbox Downtown 11:30 AM Speaker TBA  Houston Club (Men Ony) Go to toolboxministries.com
URL:https://gailstolzenburg.com/event/toolbox-downtown-6/
END:VEVENT
BEGIN:VEVENT
DTSTART;TZID=America/Chicago:20260513T080000
DTEND;TZID=America/Chicago:20260513T093000
DTSTAMP:20260420T023122
CREATED:20260412T161024Z
LAST-MODIFIED:20260412T161024Z
UID:9753-1778659200-1778664600@gailstolzenburg.com
SUMMARY:Senior Estate Concierge Northwest Chapter
DESCRIPTION:Wed May 13 Senior Estate Concierge Northwest Chapter 8:00 AM 19929 Chasewood Fork Dr. Contact seniorestateconcierge.com
URL:https://gailstolzenburg.com/event/senior-estate-concierge-northwest-chapter-11/
END:VEVENT
BEGIN:VEVENT
DTSTART;TZID=America/Chicago:20260513T083000
DTEND;TZID=America/Chicago:20260513T093000
DTSTAMP:20260420T023122
CREATED:20260412T161133Z
LAST-MODIFIED:20260412T161133Z
UID:9755-1778661000-1778664600@gailstolzenburg.com
SUMMARY:Cup of Joey Sugar Land
DESCRIPTION:Wed May 13 Cup of Joey 8:30 AM 16090 City Walk Sugar Land  https://www.cupofjoey.org/event-details/cup-of-joey-at-sugar-land-town-square-2025-05-14-08-30
URL:https://gailstolzenburg.com/event/cup-of-joey-sugar-land-12/
END:VEVENT
BEGIN:VEVENT
DTSTART;TZID=America/Chicago:20260513T110000
DTEND;TZID=America/Chicago:20260513T120000
DTSTAMP:20260420T023122
CREATED:20260412T161348Z
LAST-MODIFIED:20260412T161348Z
UID:9759-1778670000-1778673600@gailstolzenburg.com
SUMMARY:Alignable In Person Networking
DESCRIPTION:Wed May 13 Alignable In Person Networking 11:00 AM by Judy Peterson\,  Clear Lake Freeman Branch Library16616 Diana Lane
URL:https://gailstolzenburg.com/event/alignable-in-person-networking-18/
END:VEVENT
BEGIN:VEVENT
DTSTART;TZID=America/Chicago:20260513T113000
DTEND;TZID=America/Chicago:20260513T130000
DTSTAMP:20260420T023122
CREATED:20260412T161241Z
LAST-MODIFIED:20260412T161241Z
UID:9757-1778671800-1778677200@gailstolzenburg.com
SUMMARY:Toolbox Galleria
DESCRIPTION:Wed May 13 Toolbox Galleria 11:30 Am Speaker TBA  Houston Country Club\, 1 Potomac  (Men Ony) Go to toolboxministries.com
URL:https://gailstolzenburg.com/event/toolbox-galleria-6/
END:VEVENT
BEGIN:VEVENT
DTSTART;TZID=America/Chicago:20260514T113000
DTEND;TZID=America/Chicago:20260514T130000
DTSTAMP:20260420T023122
CREATED:20260412T134718Z
LAST-MODIFIED:20260412T134718Z
UID:9733-1778758200-1778763600@gailstolzenburg.com
SUMMARY:H-Town Handshakes Noontime Networking
DESCRIPTION:Thu May 14 H-Town Handshakes Noontime Networking11:30 AM The Cannon West 1334 Brittmoore. Hosted by Edward Ferguson. efurguson@thewebpagesite.com. I will be there to introduce you. Reserve at https://htownhandshakes.com/events?sort=featured
URL:https://gailstolzenburg.com/event/h-town-handshakes-noontime-networking-8/
END:VEVENT
BEGIN:VEVENT
DTSTART;TZID=America/Chicago:20260515T100000
DTEND;TZID=America/Chicago:20260515T110000
DTSTAMP:20260420T023122
CREATED:20260412T161505Z
LAST-MODIFIED:20260412T161505Z
UID:9761-1778839200-1778842800@gailstolzenburg.com
SUMMARY:Alignable Morning Networkin
DESCRIPTION:Fri May 15 Alignable Morning Networking 10:00 AM Hosted by Dr. Chi (DDS)Teahouse Tapioca & Tea\, 9050 Hwy 6\, Missousi City Email Judy@Judyp.me
URL:https://gailstolzenburg.com/event/alignable-morning-networkin/
END:VEVENT
BEGIN:VEVENT
DTSTART;TZID=America/Chicago:20260515T113000
DTEND;TZID=America/Chicago:20260515T130000
DTSTAMP:20260420T023122
CREATED:20260412T161621Z
LAST-MODIFIED:20260412T161621Z
UID:9763-1778844600-1778850000@gailstolzenburg.com
SUMMARY:Inspired Leaders Lunch
DESCRIPTION:Fri May 15 Inspired Leaders 11:30 AM  Hosted by Andy and Elizabeth Greever\, Vibrant Church\, 2319 Timberloch Pl. The Woodlands\, Go to https://www.inspiredleaders.org/event-rsvp
URL:https://gailstolzenburg.com/event/inspired-leaders-lunch-2/
END:VEVENT
BEGIN:VEVENT
DTSTART;TZID=America/Chicago:20260515T150000
DTEND;TZID=America/Chicago:20260515T160000
DTSTAMP:20260420T023122
CREATED:20260412T161720Z
LAST-MODIFIED:20260412T161720Z
UID:9765-1778857200-1778860800@gailstolzenburg.com
SUMMARY:Alignable Houston Meet & Greet Online
DESCRIPTION:Fri May 15 Alignable Houston Meet & Greet Online 3:00 PM by Judy Peterson\, Email Judy@Judyp.me
URL:https://gailstolzenburg.com/event/alignable-houston-meet-greet-online-6/
END:VEVENT
BEGIN:VEVENT
DTSTART;TZID=America/Chicago:20260520T080000
DTEND;TZID=America/Chicago:20260520T090000
DTSTAMP:20260420T023122
CREATED:20260419T225116Z
LAST-MODIFIED:20260419T225116Z
UID:9800-1779264000-1779267600@gailstolzenburg.com
SUMMARY:Katy Connection Networking
DESCRIPTION:Wed May 20 Katy Connection 8:00 AM facilitated by Bob Doll at Schmidt Funeral Home 1334 W Grand Pkwy\, Katy\, Over 50 networkers attend on a regular basis.  Go to https://www.facebook.com/TheKatyConnection.
URL:https://gailstolzenburg.com/event/katy-connection-networking-19/
END:VEVENT
BEGIN:VEVENT
DTSTART;TZID=America/Chicago:20260521T110000
DTEND;TZID=America/Chicago:20260521T130000
DTSTAMP:20260420T023122
CREATED:20260419T225242Z
LAST-MODIFIED:20260419T225242Z
UID:9802-1779361200-1779368400@gailstolzenburg.com
SUMMARY:Houston Area Continuity of Care
DESCRIPTION:Thu May 21 Houston Area Continuity of Care 11:15 AM  King Ranch Texas Kitchen\, 1605 Post Oak Blvd. HACOC.org
URL:https://gailstolzenburg.com/event/houston-area-continuity-of-care-11/
END:VEVENT
BEGIN:VEVENT
DTSTART;TZID=America/Chicago:20260521T173000
DTEND;TZID=America/Chicago:20260521T190000
DTSTAMP:20260420T023122
CREATED:20260419T225333Z
LAST-MODIFIED:20260419T225333Z
UID:9804-1779384600-1779390000@gailstolzenburg.com
SUMMARY:Katy-Networth Networking
DESCRIPTION:Thu May 21 Katy-Networth Networking 5:30 PM Gauchos Do Sul\, 910 W Grand Pkwy. https://www.eventbrite.com/e/katy-networth-business-networking-monthly-mixer-tickets-708592748987?aff=ebdssbpointsofinterest
URL:https://gailstolzenburg.com/event/katy-networth-networking-13/
END:VEVENT
END:VCALENDAR